BEGIN:VCALENDAR
VERSION:2.0
PRODID:-//wp-events-plugin.com//7.2.3.1//EN
TZID:America/New_York
X-WR-TIMEZONE:America/New_York
BEGIN:VEVENT
UID:44@irejn.org
DTSTART;TZID=America/New_York:20260513T180000
DTEND;TZID=America/New_York:20260513T210000
DTSTAMP:20260324T202801Z
URL:https://www.irejn.org/events/irejn-earthkeeper-dinner-2/
SUMMARY:IREJN Earthkeeper Dinner
DESCRIPTION:It's IREJN's 25th Anniversary!  Join us for the Earthkeeper Di
 nner as we honor Mary Evelyn Tucker and John Grim\, our distinguished 2026
  Earthkeeper Award recipients. Together\, let’s inspire\, connect\, and 
 commit to a sustainable future for generations to come.\n\nReserve your se
 at today!\nMembers: $85\nNon-members: $95\nMembership + Dinner: $140\n\nPu
 rchase your tickets here \n\nYou can also mail a check for tickets to IRE
 JN c/o Terri Eickel\, 8 Doolittle Road\, Preston\, CT 06365\n\nFor Sponsor
 ships\, Contact: Teresa Eickel terri@irejn.org 860-595-2321\n\nSponsorshi
 p Levels\n\nSandpiper - $250\nName and logo in program and website\nTwo ti
 ckets to dinner\n\nCardinal - $500\nName and logo in program and website\n
 Four tickets to the dinner\nRecognition on social media\n\nMeadowlark - $7
 50\nName and logo in program and website\nFour tickets to the dinner\nFeat
 ured in e-newsletter\nRecognition on social media\nAdditional two tickets 
 for IREJN to offer as scholarship tickets\n\nHawk $1000\nName and logo in 
 program and website\nSix tickets to the dinner\nFeatured in e-newsletter\n
 Recognition on social media\nRecognition in press releases\nAdditional two
  tickets for IREJN to provide as scholarship tickets\nPublic acknowledgeme
 nt at the event\n\nEagle $2500\nName and logo in program and website\nFull
  table (ten tickets) to the dinner\nFeatured in e-newsletter\nRecognition 
 on social media\nRecognition in press releases\nAdditional two tickets for
  IREJN to provide as scholarship tickets\nPublic acknowledgement at the ev
 ent\n \n&nbsp\;\n\n&nbsp\;
ATTACH;FMTTYPE=image/jpeg:https://www.irejn.org/wp-content/uploads/2026/01
 /8th-Annual-Earthkeeper-Dinner-9.png
CATEGORIES:Fundraiser
LOCATION:Pond House Cafe\, 1555 Asylum Avenue\, West Hartford\, CT\, 06117\
 , United States
X-APPLE-STRUCTURED-LOCATION;VALUE=URI;X-ADDRESS=1555 Asylum Avenue\, West H
 artford\, CT\, 06117\, United States;X-APPLE-RADIUS=100;X-TITLE=Pond House
  Cafe:geo:0,0
END:VEVENT
BEGIN:VTIMEZONE
TZID:America/New_York
X-LIC-LOCATION:America/New_York
BEGIN:DAYLIGHT
DTSTART:20260308T030000
TZOFFSETFROM:-0500
TZOFFSETTO:-0400
TZNAME:EDT
END:DAYLIGHT
END:VTIMEZONE
END:VCALENDAR