BEGIN:VCALENDAR
VERSION:2.0
PRODID:-//wp-events-plugin.com//7.2.3.1//EN
TZID:America/New_York
X-WR-TIMEZONE:America/New_York
BEGIN:VEVENT
UID:5@irejn.org
DTSTART;TZID=America/New_York:20240725T190000
DTEND;TZID=America/New_York:20240725T203000
DTSTAMP:20240523T002305Z
URL:https://www.irejn.org/events/irejns-6th-annual-earthkeeper-dinner/
SUMMARY:Play It Safe: Grass vs. Artificial Turf Playing Fields
DESCRIPTION:Join us for a webinar on the differences between grass and arti
 ficial playing fields. 
ATTACH;FMTTYPE=image/jpeg:https://www.irejn.org/wp-content/uploads/2024/02
 /Artificial-Turf-Rolls-Resized-jpg.webp
CATEGORIES:Nature,Plastics,Toxic Chemicals
LOCATION:https://Playitsafegrassvsartificialturf.eventbrite.com
END:VEVENT
BEGIN:VTIMEZONE
TZID:America/New_York
X-LIC-LOCATION:America/New_York
BEGIN:DAYLIGHT
DTSTART:20240310T030000
TZOFFSETFROM:-0500
TZOFFSETTO:-0400
TZNAME:EDT
END:DAYLIGHT
END:VTIMEZONE
END:VCALENDAR