BEGIN:VCALENDAR
VERSION:2.0
PRODID:-//wp-events-plugin.com//7.2.3.1//EN
TZID:America/New_York
X-WR-TIMEZONE:America/New_York
BEGIN:VEVENT
UID:47@irejn.org
DTSTART;TZID=America/New_York:20260422T090000
DTEND;TZID=America/New_York:20260422T103000
DTSTAMP:20260127T200015Z
URL:https://www.irejn.org/events/irejns-legislative-prayer-breakfast-3/
SUMMARY:IREJN's Legislative Prayer Breakfast
DESCRIPTION:Please join IREJN on EARTH DAY for our annual Legislative Praye
 r Breakfast\, Wednesday\, April 22 from 9:00 am - 10:30 am.  Breakfast wi
 ll be available at 9:00 am and our short program of prayer will begin at 9
 :30 am.  Join us for an inspiring and spiritual service as religious lead
 ers pray for our planet and all who live on it.\n\nREGISTER
ATTACH;FMTTYPE=image/jpeg:https://www.irejn.org/wp-content/uploads/2024/01
 /Webinar-on-Planetary-Crisis-jpg.webp
CATEGORIES:Advocacy,Climate Change,Environmental Justice,Nature,Toxic
 Chemicals
LOCATION:State Capitol Building\, 210 Capitol Avenue\, Hartford\, CT\, 0610
 6\, United States
X-APPLE-STRUCTURED-LOCATION;VALUE=URI;X-ADDRESS=210 Capitol Avenue\, Hartfo
 rd\, CT\, 06106\, United States;X-APPLE-RADIUS=100;X-TITLE=State Capitol B
 uilding:geo:0,0
END:VEVENT
BEGIN:VTIMEZONE
TZID:America/New_York
X-LIC-LOCATION:America/New_York
BEGIN:DAYLIGHT
DTSTART:20260308T030000
TZOFFSETFROM:-0500
TZOFFSETTO:-0400
TZNAME:EDT
END:DAYLIGHT
END:VTIMEZONE
END:VCALENDAR