BEGIN:VCALENDAR
VERSION:2.0
PRODID:-//wp-events-plugin.com//7.2.3.1//EN
TZID:America/New_York
X-WR-TIMEZONE:America/New_York
BEGIN:VEVENT
UID:45@irejn.org
DTSTART;TZID=America/New_York:20260203T190000
DTEND;TZID=America/New_York:20260203T203000
DTSTAMP:20260127T193310Z
URL:https://www.irejn.org/events/the-rights-of-nature/
SUMMARY:The Rights of Nature
DESCRIPTION:Join IREJN and the Yale Forum for Religion and Ecology to learn
  about nationwide efforts to protect the "Rights of Nature."
ATTACH;FMTTYPE=image/jpeg:https://www.irejn.org/wp-content/uploads/2026/01
 /Osprey-in-Nest-Resized.jpg
CATEGORIES:Nature
END:VEVENT
BEGIN:VTIMEZONE
TZID:America/New_York
X-LIC-LOCATION:America/New_York
BEGIN:STANDARD
DTSTART:20251102T010000
TZOFFSETFROM:-0400
TZOFFSETTO:-0500
TZNAME:EST
END:STANDARD
END:VTIMEZONE
END:VCALENDAR